BEGIN:VCALENDAR
VERSION:2.0
PRODID:-//MUSIKAER - ECPv6.15.20//NONSGML v1.0//EN
CALSCALE:GREGORIAN
METHOD:PUBLISH
X-ORIGINAL-URL:https://musikaer.com
X-WR-CALDESC:Eventos para MUSIKAER
REFRESH-INTERVAL;VALUE=DURATION:PT1H
X-Robots-Tag:noindex
X-PUBLISHED-TTL:PT1H
BEGIN:VTIMEZONE
TZID:UTC
BEGIN:STANDARD
TZOFFSETFROM:+0000
TZOFFSETTO:+0000
TZNAME:UTC
DTSTART:20240101T000000
END:STANDARD
END:VTIMEZONE
BEGIN:VEVENT
DTSTART;TZID=UTC:20250614T130000
DTEND;TZID=UTC:20250614T140000
DTSTAMP:20260419T133703
CREATED:20250608T092857Z
LAST-MODIFIED:20250801T091918Z
UID:1677-1749906000-1749909600@musikaer.com
SUMMARY:Un libro un concierto
DESCRIPTION:Cuando decimos que la música hace magia no exageramos. \nGracias a un concierto de la fabulosa pianista María Cano Blanco\, se va a terminar de llenar de libros la maravillosa biblioteca móvil\, que con tanto cariño ha donado a la planta de Onco-Hematología del Hospital Materno Infantil de Badajoz el Colegio Ruta de la Plata de Almendralejo desde su grupo de trabajo El Ruta se Mueve. \nEsta actividad está subvencionada por el Ministerio de Cultura. La entrada es un libro infantil o juvenil. \nVer https://youtu.be/IUihwcZH-rc \nFotos del evento: \nUn libro\, un concierto
URL:https://musikaer.com/evento/un-libro-un-concierto/
LOCATION:Badajoz
CATEGORIES:Conciertos
ATTACH;FMTTYPE=image/jpeg:https://musikaer.com/wp-content/uploads/2025/06/conciertos_01.jpg
ORGANIZER;CN="MUSIKAER":MAILTO:info@musikaer.com
END:VEVENT
END:VCALENDAR