BEGIN:VCALENDAR
VERSION:2.0
PRODID:-//MUSIKAER - ECPv6.15.20//NONSGML v1.0//EN
CALSCALE:GREGORIAN
METHOD:PUBLISH
X-ORIGINAL-URL:https://musikaer.com
X-WR-CALDESC:Eventos para MUSIKAER
REFRESH-INTERVAL;VALUE=DURATION:PT1H
X-Robots-Tag:noindex
X-PUBLISHED-TTL:PT1H
BEGIN:VTIMEZONE
TZID:UTC
BEGIN:STANDARD
TZOFFSETFROM:+0000
TZOFFSETTO:+0000
TZNAME:UTC
DTSTART:20240101T000000
END:STANDARD
END:VTIMEZONE
BEGIN:VEVENT
DTSTART;TZID=UTC:20250828T213000
DTEND;TZID=UTC:20250828T223000
DTSTAMP:20260421T095620
CREATED:20250824T113532Z
LAST-MODIFIED:20250824T113532Z
UID:1817-1756416600-1756420200@musikaer.com
SUMMARY:Concierto de Cuerda El Jardín del Convento
DESCRIPTION:Concierto de cuerda compuesto por Luis Damián Ortíz y 7 jóvenes músicos en el que se interpretarán obras de: \nPachelbel\, Vivaldi\, Bach\, Schubert\, Accolay\, Iradier\, Vivaldi y Jenkins.  \nEn un entorno mágico: El Jardín del Convento\, una casa rural que dispone de un jardín con una superficie aproximada de 1.000 m2 y conserva el diseño original decimonónico característico de los jardines de esa época en Hervás. \nResponsable: Luis Damián Ortíz \nFecha: 28 de agosto de 2025\, 21:30 horas. \nLugar: El Jardín del Convento\, Plaza del Convento 22. Hervás.
URL:https://musikaer.com/evento/concierto-de-cuerda-el-jardin-del-convento/
LOCATION:Badajoz
CATEGORIES:Conciertos
ATTACH;FMTTYPE=image/jpeg:https://musikaer.com/wp-content/uploads/2025/08/conciertos_04.jpg
ORGANIZER;CN="MUSIKAER":MAILTO:info@musikaer.com
END:VEVENT
END:VCALENDAR