BEGIN:VCALENDAR
VERSION:2.0
PRODID:-//MUSIKAER - ECPv6.15.20//NONSGML v1.0//EN
CALSCALE:GREGORIAN
METHOD:PUBLISH
X-WR-CALNAME:MUSIKAER
X-ORIGINAL-URL:https://musikaer.com
X-WR-CALDESC:Eventos para MUSIKAER
REFRESH-INTERVAL;VALUE=DURATION:PT1H
X-Robots-Tag:noindex
X-PUBLISHED-TTL:PT1H
BEGIN:VTIMEZONE
TZID:UTC
BEGIN:STANDARD
TZOFFSETFROM:+0000
TZOFFSETTO:+0000
TZNAME:UTC
DTSTART:20230101T000000
END:STANDARD
END:VTIMEZONE
BEGIN:VEVENT
DTSTART;TZID=UTC:20241111T090000
DTEND;TZID=UTC:20241112T200000
DTSTAMP:20260419T222948
CREATED:20250224T071703Z
LAST-MODIFIED:20250429T161051Z
UID:1533-1731315600-1731441600@musikaer.com
SUMMARY:Clases Magistrales de Interpretación Histórica
DESCRIPTION:Tomoe Badiarova\, violinista japonesa\, es una figura destacada en el mundo de la interpretación de época. \nEs famosa por su excepcional versatilidad\, ya que brilla como solista\, músico de cámara y directora de orquesta. Su repertorio abarca desde el barroco temprano hasta el romanticismo tardío\, y se destaca tanto en violines barrocos como románticos\, así como en viola y violoncello da spalla. \nFormación a 12 alumnos que se inscribieron a través del formulario dentro del sitio musikaer.com
URL:https://musikaer.com/evento/clases-magistrales-de-interpretacion-historica/
LOCATION:C.O.M. Tomás Bote Lavado\, Avenida San Antonio 1\, Almendralejo\, Badajoz\, 06200\, Spain
CATEGORIES:Cursos
ATTACH;FMTTYPE=image/jpeg:https://musikaer.com/wp-content/uploads/2025/02/eventos_05.jpg
ORGANIZER;CN="MUSIKAER":MAILTO:info@musikaer.com
END:VEVENT
END:VCALENDAR